BEGIN:VCALENDAR
VERSION:2.0
PRODID:-//一般社団法人徳之島観光連盟 - ECPv4.6.21//NONSGML v1.0//EN
CALSCALE:GREGORIAN
METHOD:PUBLISH
X-WR-CALNAME:一般社団法人徳之島観光連盟
X-ORIGINAL-URL:http://www.tokunoshima-kanko.com
X-WR-CALDESC:Events for 一般社団法人徳之島観光連盟
BEGIN:VEVENT
DTSTART;TZID=Asia/Tokyo:20181104T083000
DTEND;TZID=Asia/Tokyo:20181104T170000
DTSTAMP:20260424T210522
CREATED:20181104T034301Z
LAST-MODIFIED:20181104T034815Z
UID:9191-1541320200-1541350800@www.tokunoshima-kanko.com
SUMMARY:兼久小学校 新校舎落成・120周年記念式典、学習発表会、祝賀会
DESCRIPTION:\n  8:30〜記念碑除幕式\n  9:00〜式典\n10:00〜学習発表会\n11:40〜記念講演会\n14:00〜祝賀会\n\n
URL:http://www.tokunoshima-kanko.com/event/%e5%85%bc%e4%b9%85%e5%b0%8f%e5%ad%a6%e6%a0%a1-%e6%96%b0%e6%a0%a1%e8%88%8e%e8%90%bd%e6%88%90%e3%83%bb120%e5%91%a8%e5%b9%b4%e8%a8%98%e5%bf%b5%e5%bc%8f%e5%85%b8%e3%80%81%e5%ad%a6%e7%bf%92%e7%99%ba/
END:VEVENT
END:VCALENDAR