BEGIN:VCALENDAR
VERSION:2.0
PRODID:-//一般社団法人徳之島観光連盟 - ECPv4.6.21//NONSGML v1.0//EN
CALSCALE:GREGORIAN
METHOD:PUBLISH
X-WR-CALNAME:一般社団法人徳之島観光連盟
X-ORIGINAL-URL:http://www.tokunoshima-kanko.com
X-WR-CALDESC:Events for 一般社団法人徳之島観光連盟
BEGIN:VEVENT
DTSTART;TZID=Asia/Tokyo:20180504T130000
DTEND;TZID=Asia/Tokyo:20180504T130000
DTSTAMP:20260425T183351
CREATED:20180412T063618Z
LAST-MODIFIED:20180421T002711Z
UID:6901-1525438800-1525438800@www.tokunoshima-kanko.com
SUMMARY:全島一&ﾐﾆ軽量級優勝旗争奪戦
DESCRIPTION: \n
URL:http://www.tokunoshima-kanko.com/event/%e5%85%a8%e5%b3%b6%e4%b8%80%ef%be%90%ef%be%86%e8%bb%bd%e9%87%8f%e7%b4%9a%e5%84%aa%e5%8b%9d%e6%97%97%e4%ba%89%e5%a5%aa%e6%88%a6%ef%bc%88%e4%bb%ae%e6%8e%b2%e8%bc%89%ef%bc%89/
LOCATION:伊仙町目手久626\, 大島郡\, 鹿児島県\, 891-8113\, Japan
END:VEVENT
END:VCALENDAR