BEGIN:VCALENDAR
VERSION:2.0
PRODID:-//一般社団法人徳之島観光連盟 - ECPv4.6.21//NONSGML v1.0//EN
CALSCALE:GREGORIAN
METHOD:PUBLISH
X-WR-CALNAME:一般社団法人徳之島観光連盟
X-ORIGINAL-URL:http://www.tokunoshima-kanko.com
X-WR-CALDESC:Events for 一般社団法人徳之島観光連盟
BEGIN:VEVENT
DTSTART;TZID=Asia/Tokyo:20181021T100000
DTEND;TZID=Asia/Tokyo:20181021T100000
DTSTAMP:20260425T023831
CREATED:20180917T070345Z
LAST-MODIFIED:20181010T235719Z
UID:8793-1540116000-1540116000@www.tokunoshima-kanko.com
SUMMARY:全島一&軽量級大会
DESCRIPTION: \n  \n
URL:http://www.tokunoshima-kanko.com/event/%e5%85%a8%e5%b3%b6%e4%b8%80%e3%83%bb%e8%bb%bd%e9%87%8f%e7%b4%9a%e5%84%aa%e5%8b%9d%e6%97%97%e4%ba%89%e5%a5%aa%e6%88%a6%e9%97%98%e7%89%9b%e5%a4%a7%e4%bc%9a%ef%bc%88%e4%bb%ae%e7%a7%b0%ef%bc%89/
LOCATION:伊仙町目手久626\, 大島郡\, 鹿児島県\, 891-8113\, Japan
END:VEVENT
END:VCALENDAR