BEGIN:VCALENDAR
VERSION:2.0
PRODID:-//一般社団法人徳之島観光連盟 - ECPv4.6.21//NONSGML v1.0//EN
CALSCALE:GREGORIAN
METHOD:PUBLISH
X-WR-CALNAME:一般社団法人徳之島観光連盟
X-ORIGINAL-URL:http://www.tokunoshima-kanko.com
X-WR-CALDESC:Events for 一般社団法人徳之島観光連盟
BEGIN:VEVENT
DTSTART;TZID=Asia/Tokyo:20180421T093000
DTEND;TZID=Asia/Tokyo:20180421T113000
DTSTAMP:20260425T213221
CREATED:20180327T073854Z
LAST-MODIFIED:20180328T000411Z
UID:6732-1524303000-1524310200@www.tokunoshima-kanko.com
SUMMARY:健康づくりウォーキング
DESCRIPTION:諸田池周辺５kmのコースを歩きます。 \n徳和瀬運動公園9時集合 \n
URL:http://www.tokunoshima-kanko.com/event/%e5%81%a5%e5%ba%b7%e3%81%a5%e3%81%8f%e3%82%8a%e3%82%a6%e3%82%a9%e3%83%bc%e3%82%ad%e3%83%b3%e3%82%b0/
LOCATION:徳之島町諸田南製糖業\, 大島郡\, 鹿児島県\, 891-7112\, Japan
END:VEVENT
END:VCALENDAR