BEGIN:VCALENDAR
VERSION:2.0
PRODID:-//一般社団法人徳之島観光連盟 - ECPv4.6.21//NONSGML v1.0//EN
CALSCALE:GREGORIAN
METHOD:PUBLISH
X-WR-CALNAME:一般社団法人徳之島観光連盟
X-ORIGINAL-URL:http://www.tokunoshima-kanko.com
X-WR-CALDESC:Events for 一般社団法人徳之島観光連盟
BEGIN:VEVENT
DTSTART;TZID=Asia/Tokyo:20190428T100000
DTEND;TZID=Asia/Tokyo:20190428T100000
DTSTAMP:20260424T021249
CREATED:20190417T024753Z
LAST-MODIFIED:20190417T024753Z
UID:10866-1556445600-1556445600@www.tokunoshima-kanko.com
SUMMARY:伊仙町海びらき
DESCRIPTION:海びらき神事、救命救急講習、宝さがし大会、他 \n \n
URL:http://www.tokunoshima-kanko.com/event/%e4%bc%8a%e4%bb%99%e7%94%ba%e6%b5%b7%e3%81%b3%e3%82%89%e3%81%8d/
LOCATION:伊仙町瀬田海海浜公園\, 大島郡\, 鹿児島県\, 891-8322\, Japan
END:VEVENT
END:VCALENDAR