BEGIN:VCALENDAR
VERSION:2.0
PRODID:-//一般社団法人徳之島観光連盟 - ECPv4.6.21//NONSGML v1.0//EN
CALSCALE:GREGORIAN
METHOD:PUBLISH
X-WR-CALNAME:一般社団法人徳之島観光連盟
X-ORIGINAL-URL:http://www.tokunoshima-kanko.com
X-WR-CALDESC:Events for 一般社団法人徳之島観光連盟
BEGIN:VEVENT
DTSTART;TZID=Asia/Tokyo:20180818T130000
DTEND;TZID=Asia/Tokyo:20180818T150000
DTSTAMP:20260425T113723
CREATED:20180801T005604Z
LAST-MODIFIED:20180801T005604Z
UID:8313-1534597200-1534604400@www.tokunoshima-kanko.com
SUMMARY:伊仙町合同金婚式
DESCRIPTION:
URL:http://www.tokunoshima-kanko.com/event/%e4%bc%8a%e4%bb%99%e7%94%ba%e5%90%88%e5%90%8c%e9%87%91%e5%a9%9a%e5%bc%8f/
LOCATION:伊仙町伊仙2575-2\, 大島郡
END:VEVENT
END:VCALENDAR