BEGIN:VCALENDAR
VERSION:2.0
PRODID:-//一般社団法人徳之島観光連盟 - ECPv4.6.21//NONSGML v1.0//EN
CALSCALE:GREGORIAN
METHOD:PUBLISH
X-WR-CALNAME:一般社団法人徳之島観光連盟
X-ORIGINAL-URL:http://www.tokunoshima-kanko.com
X-WR-CALDESC:Events for 一般社団法人徳之島観光連盟
BEGIN:VEVENT
DTSTART;TZID=Asia/Tokyo:20190818T170000
DTEND;TZID=Asia/Tokyo:20190818T220000
DTSTAMP:20260423T131122
CREATED:20190628T045845Z
LAST-MODIFIED:20190809T081810Z
UID:11260-1566147600-1566165600@www.tokunoshima-kanko.com
SUMMARY:令和元年第45回あまぎ祭
DESCRIPTION: \n
URL:http://www.tokunoshima-kanko.com/event/%e4%bb%a4%e5%92%8c%e5%85%83%e5%b9%b4%e7%ac%ac45%e5%9b%9e%e3%81%82%e3%81%be%e3%81%8e%e7%a5%ad/
LOCATION:天城町平土野３５－４
END:VEVENT
END:VCALENDAR