BEGIN:VCALENDAR
VERSION:2.0
PRODID:-//一般社団法人徳之島観光連盟 - ECPv4.6.21//NONSGML v1.0//EN
CALSCALE:GREGORIAN
METHOD:PUBLISH
X-WR-CALNAME:一般社団法人徳之島観光連盟
X-ORIGINAL-URL:http://www.tokunoshima-kanko.com
X-WR-CALDESC:Events for 一般社団法人徳之島観光連盟
BEGIN:VEVENT
DTSTART;TZID=Asia/Tokyo:20200119T090000
DTEND;TZID=Asia/Tokyo:20200119T170000
DTSTAMP:20260423T190417
CREATED:20200116T065946Z
LAST-MODIFIED:20200116T065946Z
UID:12973-1579424400-1579453200@www.tokunoshima-kanko.com
SUMMARY:令和元年度　徳之島町生涯学習推進大会・生涯学習フェア/
DESCRIPTION: \n
URL:http://www.tokunoshima-kanko.com/event/%e4%bb%a4%e5%92%8c%e5%85%83%e5%b9%b4%e5%ba%a6%e3%80%80%e5%be%b3%e4%b9%8b%e5%b3%b6%e7%94%ba%e7%94%9f%e6%b6%af%e5%ad%a6%e7%bf%92%e6%8e%a8%e9%80%b2%e5%a4%a7%e4%bc%9a%e3%83%bb%e7%94%9f%e6%b6%af%e5%ad%a6/
LOCATION:徳之島町亀津2918
END:VEVENT
END:VCALENDAR