BEGIN:VCALENDAR
VERSION:2.0
PRODID:-//一般社団法人徳之島観光連盟 - ECPv4.6.21//NONSGML v1.0//EN
CALSCALE:GREGORIAN
METHOD:PUBLISH
X-WR-CALNAME:一般社団法人徳之島観光連盟
X-ORIGINAL-URL:http://www.tokunoshima-kanko.com
X-WR-CALDESC:Events for 一般社団法人徳之島観光連盟
BEGIN:VEVENT
DTSTART;TZID=Asia/Tokyo:20190720T183000
DTEND;TZID=Asia/Tokyo:20190720T213000
DTSTAMP:20260423T131303
CREATED:20190713T052711Z
LAST-MODIFIED:20190724T080409Z
UID:11392-1563647400-1563658200@www.tokunoshima-kanko.com
SUMMARY:祝令和元年　六月灯
DESCRIPTION: \n※花火は、ありません。 \n
URL:http://www.tokunoshima-kanko.com/event/%e4%bb%a4%e5%92%8c%e5%85%83%e5%b9%b4%e3%80%80%e5%85%ad%e6%9c%88%e7%81%af/
END:VEVENT
END:VCALENDAR