BEGIN:VCALENDAR
VERSION:2.0
PRODID:-//一般社団法人徳之島観光連盟 - ECPv4.6.21//NONSGML v1.0//EN
CALSCALE:GREGORIAN
METHOD:PUBLISH
X-WR-CALNAME:一般社団法人徳之島観光連盟
X-ORIGINAL-URL:http://www.tokunoshima-kanko.com
X-WR-CALDESC:Events for 一般社団法人徳之島観光連盟
BEGIN:VEVENT
DTSTART;TZID=Asia/Tokyo:20180818T160000
DTEND;TZID=Asia/Tokyo:20180818T160000
DTSTAMP:20260425T103452
CREATED:20180601T021227Z
LAST-MODIFIED:20180601T021227Z
UID:7760-1534608000-1534608000@www.tokunoshima-kanko.com
SUMMARY:井之川の浜下り・夏目踊り
DESCRIPTION:夏目踊り：２２時～ \n
URL:http://www.tokunoshima-kanko.com/event/%e4%ba%95%e4%b9%8b%e5%b7%9d%e3%81%ae%e6%b5%9c%e4%b8%8b%e3%82%8a%e3%83%bb%e5%a4%8f%e7%9b%ae%e8%b8%8a%e3%82%8a/
LOCATION:徳之島町井之川\, 大島郡\, 鹿児島県\, 891-7114\, Japan
END:VEVENT
END:VCALENDAR