BEGIN:VCALENDAR
VERSION:2.0
PRODID:-//一般社団法人徳之島観光連盟 - ECPv4.6.21//NONSGML v1.0//EN
CALSCALE:GREGORIAN
METHOD:PUBLISH
X-WR-CALNAME:一般社団法人徳之島観光連盟
X-ORIGINAL-URL:http://www.tokunoshima-kanko.com
X-WR-CALDESC:Events for 一般社団法人徳之島観光連盟
BEGIN:VEVENT
DTSTART;TZID=Asia/Tokyo:20180502T183000
DTEND;TZID=Asia/Tokyo:20180502T183000
DTSTAMP:20260425T224123
CREATED:20180412T062455Z
LAST-MODIFIED:20180421T002334Z
UID:6887-1525285800-1525285800@www.tokunoshima-kanko.com
SUMMARY:中量級決定戦ﾅｲﾀｰ大会
DESCRIPTION: \n
URL:http://www.tokunoshima-kanko.com/event/%e4%b8%ad%e9%87%8f%e7%b4%9a%e6%b1%ba%e5%ae%9a%e6%88%a6%ef%be%85%ef%bd%b2%ef%be%80%ef%bd%b0%e5%a4%a7%e4%bc%9a%ef%bc%88%e4%bb%ae%e6%8e%b2%e8%bc%89%ef%bc%89/
LOCATION:伊仙町目手久626\, 大島郡\, 鹿児島県\, 891-8113\, Japan
END:VEVENT
END:VCALENDAR