BEGIN:VCALENDAR
VERSION:2.0
PRODID:-//一般社団法人徳之島観光連盟 - ECPv4.6.21//NONSGML v1.0//EN
CALSCALE:GREGORIAN
METHOD:PUBLISH
X-WR-CALNAME:一般社団法人徳之島観光連盟
X-ORIGINAL-URL:http://www.tokunoshima-kanko.com
X-WR-CALDESC:Events for 一般社団法人徳之島観光連盟
BEGIN:VEVENT
DTSTART;TZID=Asia/Tokyo:20180708T130000
DTEND;TZID=Asia/Tokyo:20180708T130000
DTSTAMP:20260425T134210
CREATED:20180616T020941Z
LAST-MODIFIED:20180616T020941Z
UID:7924-1531054800-1531054800@www.tokunoshima-kanko.com
SUMMARY:世界自然遺産登録応援&徳之島闘牛観戦ﾂｱｰ大会
DESCRIPTION: \n
URL:http://www.tokunoshima-kanko.com/event/%e4%b8%96%e7%95%8c%e8%87%aa%e7%84%b6%e9%81%ba%e7%94%a3%e7%99%bb%e9%8c%b2%e5%bf%9c%e6%8f%b4%e5%be%b3%e4%b9%8b%e5%b3%b6%e9%97%98%e7%89%9b%e8%a6%b3%e6%88%a6%ef%be%82%ef%bd%b1%ef%bd%b0%e5%a4%a7%e4%bc%9a/
LOCATION:伊仙町目手久626\, 大島郡\, 鹿児島県\, 891-8113\, Japan
END:VEVENT
END:VCALENDAR