BEGIN:VCALENDAR
VERSION:2.0
PRODID:-//一般社団法人徳之島観光連盟 - ECPv4.6.21//NONSGML v1.0//EN
CALSCALE:GREGORIAN
METHOD:PUBLISH
X-WR-CALNAME:一般社団法人徳之島観光連盟
X-ORIGINAL-URL:http://www.tokunoshima-kanko.com
X-WR-CALDESC:Events for 一般社団法人徳之島観光連盟
BEGIN:VEVENT
DTSTART;TZID=Asia/Tokyo:20181206T180000
DTEND;TZID=Asia/Tokyo:20181206T210000
DTSTAMP:20260424T163417
CREATED:20181120T052200Z
LAST-MODIFIED:20181120T052200Z
UID:9360-1544119200-1544130000@www.tokunoshima-kanko.com
SUMMARY:世界自然遺産奄美トレイル天城町第２回コース選定ワークショップ
DESCRIPTION:世界自然遺産奄美トレイルは、奄美群島をひとつにつなぐ長距離の自然歩道です。世界自然遺産登録を見据え、奄美群島全体で自然や文化を体感できる道のコース選定を進めています。天城町の自然や、集落を歩くトレイルコースづくりに参加しませんか？これまでの現地調査やワークショップをもとに考えた天城町のコース案を確認しトレイルマップに載せる内容について、皆さんと一緒に意見を話し合って考えます。講師：相澤久美氏　NPO法人みちのくトレイルクラブ常任理事 \n
URL:http://www.tokunoshima-kanko.com/event/%e4%b8%96%e7%95%8c%e8%87%aa%e7%84%b6%e9%81%ba%e7%94%a3%e5%a5%84%e7%be%8e%e3%83%88%e3%83%ac%e3%82%a4%e3%83%ab%e5%a4%a9%e5%9f%8e%e7%94%ba%e7%ac%ac%ef%bc%92%e5%9b%9e%e3%82%b3%e3%83%bc%e3%82%b9%e9%81%b8/
LOCATION:天城町平土野2691-1\, 大島郡\, 鹿児島県\, Japan
END:VEVENT
END:VCALENDAR