BEGIN:VCALENDAR
VERSION:2.0
PRODID:-//一般社団法人徳之島観光連盟 - ECPv4.6.21//NONSGML v1.0//EN
CALSCALE:GREGORIAN
METHOD:PUBLISH
X-WR-CALNAME:一般社団法人徳之島観光連盟
X-ORIGINAL-URL:http://www.tokunoshima-kanko.com
X-WR-CALDESC:Events for 一般社団法人徳之島観光連盟
BEGIN:VEVENT
DTSTART;TZID=Asia/Tokyo:20190210T140000
DTEND;TZID=Asia/Tokyo:20190210T180000
DTSTAMP:20260424T102155
CREATED:20190202T004506Z
LAST-MODIFIED:20190202T004506Z
UID:10324-1549807200-1549821600@www.tokunoshima-kanko.com
SUMMARY:世界自然遺産セミナーｉｎ徳之島
DESCRIPTION: \n
URL:http://www.tokunoshima-kanko.com/event/%e4%b8%96%e7%95%8c%e8%87%aa%e7%84%b6%e9%81%ba%e7%94%a3%e3%82%bb%e3%83%9f%e3%83%8a%e3%83%bc%ef%bd%89%ef%bd%8e%e5%be%b3%e4%b9%8b%e5%b3%b6/
LOCATION:天城町天城４３０\, 大島郡\, 鹿児島県\, 891-7611\, Japan
END:VEVENT
END:VCALENDAR