BEGIN:VCALENDAR
VERSION:2.0
PRODID:-//一般社団法人徳之島観光連盟 - ECPv4.6.21//NONSGML v1.0//EN
CALSCALE:GREGORIAN
METHOD:PUBLISH
X-WR-CALNAME:一般社団法人徳之島観光連盟
X-ORIGINAL-URL:http://www.tokunoshima-kanko.com
X-WR-CALDESC:Events for 一般社団法人徳之島観光連盟
BEGIN:VEVENT
DTSTART;TZID=Asia/Tokyo:20180519T193000
DTEND;TZID=Asia/Tokyo:20180519T193000
DTSTAMP:20260425T160631
CREATED:20180512T002439Z
LAST-MODIFIED:20180512T002534Z
UID:7426-1526758200-1526758200@www.tokunoshima-kanko.com
SUMMARY:与那覇歩ライブ
DESCRIPTION: \n
URL:http://www.tokunoshima-kanko.com/event/%e4%b8%8e%e9%82%a3%e8%a6%87%e6%ad%a9%e3%83%a9%e3%82%a4%e3%83%96/
LOCATION:徳之島町亀津7422\, 大島郡\, 鹿児島県\, 891-7101\, Japan
END:VEVENT
END:VCALENDAR