BEGIN:VCALENDAR
VERSION:2.0
PRODID:-//一般社団法人徳之島観光連盟 - ECPv4.6.21//NONSGML v1.0//EN
CALSCALE:GREGORIAN
METHOD:PUBLISH
X-WR-CALNAME:一般社団法人徳之島観光連盟
X-ORIGINAL-URL:http://www.tokunoshima-kanko.com
X-WR-CALDESC:Events for 一般社団法人徳之島観光連盟
BEGIN:VEVENT
DTSTART;TZID=Asia/Tokyo:20190519T140000
DTEND;TZID=Asia/Tokyo:20190519T153000
DTSTAMP:20260423T215241
CREATED:20190509T074551Z
LAST-MODIFIED:20190509T082240Z
UID:10996-1558274400-1558279800@www.tokunoshima-kanko.com
SUMMARY:ユイの館講演会 音楽ラジオを通した島おこし活動
DESCRIPTION: \n
URL:http://www.tokunoshima-kanko.com/event/%e3%83%a6%e3%82%a4%e3%81%ae%e9%a4%a8%e8%ac%9b%e6%bc%94%e4%bc%9a-%e9%9f%b3%e6%a5%bd%e3%83%a9%e3%82%b8%e3%82%aa%e3%82%92%e9%80%9a%e3%81%97%e3%81%9f%e5%b3%b6%e3%81%8a%e3%81%93%e3%81%97%e6%b4%bb%e5%8b%95/
LOCATION:天城町天城439-1
END:VEVENT
END:VCALENDAR