BEGIN:VCALENDAR
VERSION:2.0
PRODID:-//一般社団法人徳之島観光連盟 - ECPv4.6.21//NONSGML v1.0//EN
CALSCALE:GREGORIAN
METHOD:PUBLISH
X-WR-CALNAME:一般社団法人徳之島観光連盟
X-ORIGINAL-URL:http://www.tokunoshima-kanko.com
X-WR-CALDESC:Events for 一般社団法人徳之島観光連盟
BEGIN:VEVENT
DTSTART;VALUE=DATE:20191226
DTEND;VALUE=DATE:20191230
DTSTAMP:20260423T153818
CREATED:20191213T010408Z
LAST-MODIFIED:20191213T010923Z
UID:12832-1577318400-1577663999@www.tokunoshima-kanko.com
SUMMARY:ミュージカルキャンプ２０１９ｉｎ徳之島
DESCRIPTION: \n『ミュージカルキャンプ2019 in 徳之島』\n日　時：令和元年12月26日（木）～29日（日）\n会　場：徳之島町立手々小中学校\n宿　泊：手々地区へき地福祉館\n対　象：小学2年生～中学3年生（定員25名）\n※小1は応相談\n参加費：14\,000円\n主　催：ミュージカルキャンプ実行委員会\n後　援：徳之島町・天城町・伊仙町　各町教育委員会（予定）\n問合せ：ミュージカルキャンプ実行委員会事務局\nＴＥＬ：０９０－４４８６－２４６９\nメール：kazemizuhikari@gmail.com \n※参加をご希望される方には、参加要項をご送付しますので12月15日（日）までにFAXまたはMAILで事務局へご連絡をお願い致します。 \nなお、正式申し込みについては、ご送付された参加申込書でお申し込みください。申し込み締め切りは12月20日（金）必着！！ \nまた、ボランティアスタッフ（高校生以上）も随時募集しています。活動に興味がある方は、事務局までお問合せください。 \n  \n
URL:http://www.tokunoshima-kanko.com/event/%e3%83%9f%e3%83%a5%e3%83%bc%e3%82%b8%e3%82%ab%e3%83%ab%e3%82%ad%e3%83%a3%e3%83%b3%e3%83%97%ef%bc%92%ef%bc%90%ef%bc%91%ef%bc%99%ef%bd%89%ef%bd%8e%e5%be%b3%e4%b9%8b%e5%b3%b6/
LOCATION:徳之島町手々2975
END:VEVENT
END:VCALENDAR