BEGIN:VCALENDAR
VERSION:2.0
PRODID:-//一般社団法人徳之島観光連盟 - ECPv4.6.21//NONSGML v1.0//EN
CALSCALE:GREGORIAN
METHOD:PUBLISH
X-WR-CALNAME:一般社団法人徳之島観光連盟
X-ORIGINAL-URL:http://www.tokunoshima-kanko.com
X-WR-CALDESC:Events for 一般社団法人徳之島観光連盟
BEGIN:VEVENT
DTSTART;TZID=Asia/Tokyo:20180707T190000
DTEND;TZID=Asia/Tokyo:20180707T190000
DTSTAMP:20260425T171019
CREATED:20180523T054433Z
LAST-MODIFIED:20180601T044804Z
UID:7647-1530990000-1530990000@www.tokunoshima-kanko.com
SUMMARY:ポルトボー25周年　記念ライブ
DESCRIPTION:前売り券（大人）2000円・（中学生以下）1000円 \n
URL:http://www.tokunoshima-kanko.com/event/%e3%83%9d%e3%83%ab%e3%83%88%e3%83%9c%e3%83%bc25%e5%91%a8%e5%b9%b4%e3%80%80%e8%a8%98%e5%bf%b5%e3%83%a9%e3%82%a4%e3%83%96/
LOCATION:天城町天城４３０\, 大島郡\, 鹿児島県\, 891-7611\, Japan
END:VEVENT
END:VCALENDAR