BEGIN:VCALENDAR
VERSION:2.0
PRODID:-//一般社団法人徳之島観光連盟 - ECPv4.6.21//NONSGML v1.0//EN
CALSCALE:GREGORIAN
METHOD:PUBLISH
X-WR-CALNAME:一般社団法人徳之島観光連盟
X-ORIGINAL-URL:http://www.tokunoshima-kanko.com
X-WR-CALDESC:Events for 一般社団法人徳之島観光連盟
BEGIN:VEVENT
DTSTART;TZID=Asia/Tokyo:20190804T090000
DTEND;TZID=Asia/Tokyo:20190804T130000
DTSTAMP:20260423T143833
CREATED:20190628T045056Z
LAST-MODIFIED:20190628T050214Z
UID:11252-1564909200-1564923600@www.tokunoshima-kanko.com
SUMMARY:ボートレース大会（天城祭り関連）
DESCRIPTION:一般・集落・女子の部 \n
URL:http://www.tokunoshima-kanko.com/event/%e3%83%9c%e3%83%bc%e3%83%88%e3%83%ac%e3%83%bc%e3%82%b9%e5%a4%a7%e4%bc%9a%ef%bc%88%e5%a4%a9%e5%9f%8e%e7%a5%ad%e3%82%8a%e9%96%a2%e9%80%a3%ef%bc%89/
LOCATION:天城町与名間６１０
END:VEVENT
END:VCALENDAR