BEGIN:VCALENDAR
VERSION:2.0
PRODID:-//一般社団法人徳之島観光連盟 - ECPv4.6.21//NONSGML v1.0//EN
CALSCALE:GREGORIAN
METHOD:PUBLISH
X-WR-CALNAME:一般社団法人徳之島観光連盟
X-ORIGINAL-URL:http://www.tokunoshima-kanko.com
X-WR-CALDESC:Events for 一般社団法人徳之島観光連盟
BEGIN:VEVENT
DTSTART;TZID=Asia/Tokyo:20180629T180000
DTEND;TZID=Asia/Tokyo:20180629T193000
DTSTAMP:20260425T174832
CREATED:20180510T071606Z
LAST-MODIFIED:20180510T072324Z
UID:7398-1530295200-1530300600@www.tokunoshima-kanko.com
SUMMARY:トライアスロンIN徳之島大会 ～カーボパーティー～
DESCRIPTION:競技説明会、カーボパーティー \n
URL:http://www.tokunoshima-kanko.com/event/%e3%83%88%e3%83%a9%e3%82%a4%e3%82%a2%e3%82%b9%e3%83%ad%e3%83%b3in%e5%be%b3%e4%b9%8b%e5%b3%b6%e5%a4%a7%e4%bc%9a-%ef%bd%9e%e3%82%ab%e3%83%bc%e3%83%9c%e3%83%91%e3%83%bc%e3%83%86%e3%82%a3%e3%83%bc/
LOCATION:天城町与名間\, 大島郡\, 鹿児島県\, 891-7601\, Japan
END:VEVENT
END:VCALENDAR