BEGIN:VCALENDAR
VERSION:2.0
PRODID:-//一般社団法人徳之島観光連盟 - ECPv4.6.21//NONSGML v1.0//EN
CALSCALE:GREGORIAN
METHOD:PUBLISH
X-WR-CALNAME:一般社団法人徳之島観光連盟
X-ORIGINAL-URL:http://www.tokunoshima-kanko.com
X-WR-CALDESC:Events for 一般社団法人徳之島観光連盟
BEGIN:VEVENT
DTSTART;TZID=Asia/Tokyo:20180630T170000
DTEND;TZID=Asia/Tokyo:20180630T190000
DTSTAMP:20260425T152730
CREATED:20180423T055620Z
LAST-MODIFIED:20180626T050619Z
UID:7180-1530378000-1530385200@www.tokunoshima-kanko.com
SUMMARY:トライアスロンin徳之島ウエルカム闘牛大会
DESCRIPTION:トライアスロン参加選手はIDカード提示で無料となっております。 \n  \n
URL:http://www.tokunoshima-kanko.com/event/%e3%83%88%e3%83%a9%e3%82%a4%e3%82%a2%e3%82%b9%e3%83%ad%e3%83%b3in%e5%be%b3%e4%b9%8b%e5%b3%b6%e3%82%a6%e3%82%a8%e3%83%ab%e3%82%ab%e3%83%a0%e9%97%98%e7%89%9b%e5%a4%a7%e4%bc%9a/
LOCATION:天城町平土野\, 大島郡\, 鹿児島県\, 891-7612\, Japan
END:VEVENT
END:VCALENDAR