BEGIN:VCALENDAR
VERSION:2.0
PRODID:-//一般社団法人徳之島観光連盟 - ECPv4.6.21//NONSGML v1.0//EN
CALSCALE:GREGORIAN
METHOD:PUBLISH
X-WR-CALNAME:一般社団法人徳之島観光連盟
X-ORIGINAL-URL:http://www.tokunoshima-kanko.com
X-WR-CALDESC:Events for 一般社団法人徳之島観光連盟
BEGIN:VEVENT
DTSTART;TZID=Asia/Tokyo:20190622T173000
DTEND;TZID=Asia/Tokyo:20190622T173000
DTSTAMP:20260423T173910
CREATED:20190602T070559Z
LAST-MODIFIED:20190602T070600Z
UID:11129-1561224600-1561224600@www.tokunoshima-kanko.com
SUMMARY:トライアスロン㏌徳之島アスリート歓迎闘牛大会
DESCRIPTION: \nトライアスロン参加選手はIDカード提示で入場料無料となっております。 \n
URL:http://www.tokunoshima-kanko.com/event/%e3%83%88%e3%83%a9%e3%82%a4%e3%82%a2%e3%82%b9%e3%83%ad%e3%83%b3%e3%8f%8c%e5%be%b3%e4%b9%8b%e5%b3%b6%e3%82%a2%e3%82%b9%e3%83%aa%e3%83%bc%e3%83%88%e6%ad%93%e8%bf%8e%e9%97%98%e7%89%9b%e5%a4%a7%e4%bc%9a/
END:VEVENT
END:VCALENDAR