BEGIN:VCALENDAR
VERSION:2.0
PRODID:-//一般社団法人徳之島観光連盟 - ECPv4.6.21//NONSGML v1.0//EN
CALSCALE:GREGORIAN
METHOD:PUBLISH
X-WR-CALNAME:一般社団法人徳之島観光連盟
X-ORIGINAL-URL:http://www.tokunoshima-kanko.com
X-WR-CALDESC:Events for 一般社団法人徳之島観光連盟
BEGIN:VEVENT
DTSTART;TZID=Asia/Tokyo:20190301T180000
DTEND;TZID=Asia/Tokyo:20190301T180000
DTSTAMP:20260424T035934
CREATED:20190223T020533Z
LAST-MODIFIED:20190223T020533Z
UID:10475-1551463200-1551463200@www.tokunoshima-kanko.com
SUMMARY:セントビンセントホストタウン登録記念音楽交流会
DESCRIPTION: \n
URL:http://www.tokunoshima-kanko.com/event/%e3%82%bb%e3%83%b3%e3%83%88%e3%83%93%e3%83%b3%e3%82%bb%e3%83%b3%e3%83%88%e3%83%9b%e3%82%b9%e3%83%88%e3%82%bf%e3%82%a6%e3%83%b3%e7%99%bb%e9%8c%b2%e8%a8%98%e5%bf%b5%e9%9f%b3%e6%a5%bd%e4%ba%a4%e6%b5%81/
LOCATION:徳之島町亀津\, 大島郡\, 鹿児島県\, 891-7101\, Japan
END:VEVENT
END:VCALENDAR