BEGIN:VCALENDAR
VERSION:2.0
PRODID:-//一般社団法人徳之島観光連盟 - ECPv4.6.21//NONSGML v1.0//EN
CALSCALE:GREGORIAN
METHOD:PUBLISH
X-WR-CALNAME:一般社団法人徳之島観光連盟
X-ORIGINAL-URL:http://www.tokunoshima-kanko.com
X-WR-CALDESC:Events for 一般社団法人徳之島観光連盟
BEGIN:VEVENT
DTSTART;TZID=Asia/Tokyo:20181215T180000
DTEND;TZID=Asia/Tokyo:20181215T210000
DTSTAMP:20260424T151028
CREATED:20181120T053134Z
LAST-MODIFIED:20181120T061130Z
UID:9372-1544896800-1544907600@www.tokunoshima-kanko.com
SUMMARY:ジョイントコンサートｉｎ徳之島
DESCRIPTION:ジョイントコンサート \n
URL:http://www.tokunoshima-kanko.com/event/%e3%82%b8%e3%83%a7%e3%82%a4%e3%83%b3%e3%83%88%e3%82%b3%e3%83%b3%e3%82%b5%e3%83%bc%e3%83%88%ef%bd%89%ef%bd%8e%e5%be%b3%e4%b9%8b%e5%b3%b6/
LOCATION:徳之島町亀津7673\, 大島郡\, 鹿児島県\, 891-7101\, Japan
END:VEVENT
END:VCALENDAR