BEGIN:VCALENDAR
VERSION:2.0
PRODID:-//一般社団法人徳之島観光連盟 - ECPv4.6.21//NONSGML v1.0//EN
CALSCALE:GREGORIAN
METHOD:PUBLISH
X-WR-CALNAME:一般社団法人徳之島観光連盟
X-ORIGINAL-URL:http://www.tokunoshima-kanko.com
X-WR-CALDESC:Events for 一般社団法人徳之島観光連盟
BEGIN:VEVENT
DTSTART;TZID=Asia/Tokyo:20190629T133000
DTEND;TZID=Asia/Tokyo:20190629T160000
DTSTAMP:20260423T154857
CREATED:20190628T081818Z
LAST-MODIFIED:20190628T081818Z
UID:11268-1561815000-1561824000@www.tokunoshima-kanko.com
SUMMARY:シンポジウム徳之島の外来種と希少種 ～島の自然と暮らしを守るために 私たちが出来ること～
DESCRIPTION: \n入場無料・申込不要 \n
URL:http://www.tokunoshima-kanko.com/event/%e3%82%b7%e3%83%b3%e3%83%9d%e3%82%b8%e3%82%a6%e3%83%a0%e5%be%b3%e4%b9%8b%e5%b3%b6%e3%81%ae%e5%a4%96%e6%9d%a5%e7%a8%ae%e3%81%a8%e5%b8%8c%e5%b0%91%e7%a8%ae-%ef%bd%9e%e5%b3%b6%e3%81%ae%e8%87%aa%e7%84%b6/
LOCATION:天城町平土野2691-1
END:VEVENT
END:VCALENDAR