BEGIN:VCALENDAR
VERSION:2.0
PRODID:-//一般社団法人徳之島観光連盟 - ECPv4.6.21//NONSGML v1.0//EN
CALSCALE:GREGORIAN
METHOD:PUBLISH
X-WR-CALNAME:一般社団法人徳之島観光連盟
X-ORIGINAL-URL:http://www.tokunoshima-kanko.com
X-WR-CALDESC:Events for 一般社団法人徳之島観光連盟
BEGIN:VEVENT
DTSTART;TZID=Asia/Tokyo:20200301T130000
DTEND;TZID=Asia/Tokyo:20200301T170000
DTSTAMP:20260423T212348
CREATED:20200212T012601Z
LAST-MODIFIED:20200212T012601Z
UID:13185-1583067600-1583082000@www.tokunoshima-kanko.com
SUMMARY:コンサート＆闘牛大会卒業祭
DESCRIPTION: \n
URL:http://www.tokunoshima-kanko.com/event/%e3%82%b3%e3%83%b3%e3%82%b5%e3%83%bc%e3%83%88%ef%bc%86%e9%97%98%e7%89%9b%e5%a4%a7%e4%bc%9a%e5%8d%92%e6%a5%ad%e7%a5%ad/
LOCATION:伊仙町目手久626
END:VEVENT
END:VCALENDAR