BEGIN:VCALENDAR
VERSION:2.0
PRODID:-//一般社団法人徳之島観光連盟 - ECPv4.6.21//NONSGML v1.0//EN
CALSCALE:GREGORIAN
METHOD:PUBLISH
X-WR-CALNAME:一般社団法人徳之島観光連盟
X-ORIGINAL-URL:http://www.tokunoshima-kanko.com
X-WR-CALDESC:Events for 一般社団法人徳之島観光連盟
BEGIN:VEVENT
DTSTART;TZID=Asia/Tokyo:20190803T080000
DTEND;TZID=Asia/Tokyo:20190803T120000
DTSTAMP:20260423T143824
CREATED:20190628T044859Z
LAST-MODIFIED:20190628T044859Z
UID:11248-1564819200-1564833600@www.tokunoshima-kanko.com
SUMMARY:グランドゴルフ大会（天城祭り関連）
DESCRIPTION:
URL:http://www.tokunoshima-kanko.com/event/%e3%82%b0%e3%83%a9%e3%83%b3%e3%83%89%e3%82%b4%e3%83%ab%e3%83%95%e5%a4%a7%e4%bc%9a%ef%bc%88%e5%a4%a9%e5%9f%8e%e7%a5%ad%e3%82%8a%e9%96%a2%e9%80%a3%ef%bc%89/
LOCATION:天城町浅間177-15
END:VEVENT
END:VCALENDAR