BEGIN:VCALENDAR
VERSION:2.0
PRODID:-//一般社団法人徳之島観光連盟 - ECPv4.6.21//NONSGML v1.0//EN
CALSCALE:GREGORIAN
METHOD:PUBLISH
X-WR-CALNAME:一般社団法人徳之島観光連盟
X-ORIGINAL-URL:http://www.tokunoshima-kanko.com
X-WR-CALDESC:Events for 一般社団法人徳之島観光連盟
BEGIN:VEVENT
DTSTART;TZID=Asia/Tokyo:20190418T080000
DTEND;TZID=Asia/Tokyo:20190418T170000
DTSTAMP:20260424T031111
CREATED:20190413T032334Z
LAST-MODIFIED:20190413T032406Z
UID:10836-1555574400-1555606800@www.tokunoshima-kanko.com
SUMMARY:クルーズ船「ぱしふぃっくびいなす号」寄港
DESCRIPTION:\n・歓迎セレモニー　8:15～8:30\n・送迎セレモニー 16:40～17:00\n\n船内無料見学10:00～1時間程度。事前予約のみ80名。 \n \n  \n
URL:http://www.tokunoshima-kanko.com/event/%e3%82%af%e3%83%ab%e3%83%bc%e3%82%ba%e8%88%b9%e3%80%8c%e3%81%b1%e3%81%97%e3%81%b5%e3%81%83%e3%81%a3%e3%81%8f%e3%81%b3%e3%81%84%e3%81%aa%e3%81%99%e5%8f%b7%e3%80%8d%e5%af%84%e6%b8%af/
END:VEVENT
END:VCALENDAR