BEGIN:VCALENDAR
VERSION:2.0
PRODID:-//一般社団法人徳之島観光連盟 - ECPv4.6.21//NONSGML v1.0//EN
CALSCALE:GREGORIAN
METHOD:PUBLISH
X-WR-CALNAME:一般社団法人徳之島観光連盟
X-ORIGINAL-URL:http://www.tokunoshima-kanko.com
X-WR-CALDESC:Events for 一般社団法人徳之島観光連盟
BEGIN:VEVENT
DTSTART;TZID=Asia/Tokyo:20190126T090000
DTEND;TZID=Asia/Tokyo:20190126T160000
DTSTAMP:20260424T121730
CREATED:20190117T001352Z
LAST-MODIFIED:20190117T001352Z
UID:10068-1548493200-1548518400@www.tokunoshima-kanko.com
SUMMARY:エコツアーガイド研修生によるプレツアー
DESCRIPTION: \n
URL:http://www.tokunoshima-kanko.com/event/%e3%82%a8%e3%82%b3%e3%83%84%e3%82%a2%e3%83%bc%e3%82%ac%e3%82%a4%e3%83%89%e7%a0%94%e4%bf%ae%e7%94%9f%e3%81%ab%e3%82%88%e3%82%8b%e3%83%97%e3%83%ac%e3%83%84%e3%82%a2%e3%83%bc/
END:VEVENT
END:VCALENDAR