BEGIN:VCALENDAR
VERSION:2.0
PRODID:-//一般社団法人徳之島観光連盟 - ECPv4.6.21//NONSGML v1.0//EN
CALSCALE:GREGORIAN
METHOD:PUBLISH
X-WR-CALNAME:一般社団法人徳之島観光連盟
X-ORIGINAL-URL:http://www.tokunoshima-kanko.com
X-WR-CALDESC:Events for 一般社団法人徳之島観光連盟
BEGIN:VEVENT
DTSTART;TZID=Asia/Tokyo:20191123T100000
DTEND;TZID=Asia/Tokyo:20191124T180000
DTSTAMP:20260421T100119
CREATED:20191108T021909Z
LAST-MODIFIED:20191108T022013Z
UID:12589-1574503200-1574618400@www.tokunoshima-kanko.com
SUMMARY:アートから広がれ！  ​チャレンジリーダーズキャンプ！！
DESCRIPTION: \n～活動概要～ \n主催：徳之島遊学PROJECT \n共催：中高生の進路サポート \n企画責任者：清瀬りほ（鹿児島大学3年） \n開催期間：令和元年11月9日(土) \n　　　　　令和元年11月23日(土)～11月24日(日) \n開催場所：亀津東区公民館（9日） \n　　　　　がじゅまるの家（23日）徳之島町立図書館（24日） \n対象学年：小学4年生～高校生 \n募集人数：定員20名 \n申込締切：令和元年11月8日（金） \n参加会費：2\,000円 \n後援：徳之島町・天城町　各教育委員会　　　活動助成：子ども夢基金活動助成 \n\n
URL:http://www.tokunoshima-kanko.com/event/%e3%82%a2%e3%83%bc%e3%83%88%e3%81%8b%e3%82%89%e5%ba%83%e3%81%8c%e3%82%8c%ef%bc%81-%e2%80%8b%e3%83%81%e3%83%a3%e3%83%ac%e3%83%b3%e3%82%b8%e3%83%aa%e3%83%bc%e3%83%80%e3%83%bc%e3%82%ba%e3%82%ad-2/
END:VEVENT
END:VCALENDAR