BEGIN:VCALENDAR
VERSION:2.0
PRODID:-//一般社団法人徳之島観光連盟 - ECPv4.6.21//NONSGML v1.0//EN
CALSCALE:GREGORIAN
METHOD:PUBLISH
X-WR-CALNAME:一般社団法人徳之島観光連盟
X-ORIGINAL-URL:http://www.tokunoshima-kanko.com
X-WR-CALDESC:Events for 一般社団法人徳之島観光連盟
BEGIN:VEVENT
DTSTART;TZID=Asia/Tokyo:20190211T100000
DTEND;TZID=Asia/Tokyo:20190211T160000
DTSTAMP:20260424T074657
CREATED:20190206T002947Z
LAST-MODIFIED:20190206T002947Z
UID:10341-1549879200-1549900800@www.tokunoshima-kanko.com
SUMMARY:われんきゃフェスタ
DESCRIPTION: \n
URL:http://www.tokunoshima-kanko.com/event/%e3%82%8f%e3%82%8c%e3%82%93%e3%81%8d%e3%82%83%e3%83%95%e3%82%a7%e3%82%b9%e3%82%bf/
LOCATION:伊仙町伊仙3508
END:VEVENT
END:VCALENDAR