BEGIN:VCALENDAR
VERSION:2.0
PRODID:-//一般社団法人徳之島観光連盟 - ECPv4.6.21//NONSGML v1.0//EN
CALSCALE:GREGORIAN
METHOD:PUBLISH
X-WR-CALNAME:一般社団法人徳之島観光連盟
X-ORIGINAL-URL:http://www.tokunoshima-kanko.com
X-WR-CALDESC:Events for 一般社団法人徳之島観光連盟
BEGIN:VEVENT
DTSTART;TZID=Asia/Tokyo:20180729T100000
DTEND;TZID=Asia/Tokyo:20180729T120000
DTSTAMP:20260425T133912
CREATED:20180718T010239Z
LAST-MODIFIED:20180722T040650Z
UID:8173-1532858400-1532865600@www.tokunoshima-kanko.com
SUMMARY:わっきゃが市場
DESCRIPTION:台風10号の影響により、22日から29日へ変更になりました。 \n花・苗木・野菜・鮮魚など特別価格にて販売！ \n
URL:http://www.tokunoshima-kanko.com/event/%e3%82%8f%e3%81%a3%e3%81%8d%e3%82%83%e3%81%8c%e5%b8%82%e5%a0%b4-2/
LOCATION:大島郡天城町与名間610-1\, 大島郡\, 鹿児島県\, 891-7612\, Japan
END:VEVENT
END:VCALENDAR