BEGIN:VCALENDAR
VERSION:2.0
PRODID:-//一般社団法人徳之島観光連盟 - ECPv4.6.21//NONSGML v1.0//EN
CALSCALE:GREGORIAN
METHOD:PUBLISH
X-WR-CALNAME:一般社団法人徳之島観光連盟
X-ORIGINAL-URL:http://www.tokunoshima-kanko.com
X-WR-CALDESC:Events for 一般社団法人徳之島観光連盟
BEGIN:VEVENT
DTSTART;TZID=Asia/Tokyo:20200125T133000
DTEND;TZID=Asia/Tokyo:20200125T170000
DTSTAMP:20260423T190622
CREATED:20200107T072538Z
LAST-MODIFIED:20200107T072538Z
UID:12910-1579959000-1579971600@www.tokunoshima-kanko.com
SUMMARY:わたしたちのしあわせ再発見シンポジウム～住民意識から総合戦略へ～
DESCRIPTION: \n
URL:http://www.tokunoshima-kanko.com/event/%e3%82%8f%e3%81%9f%e3%81%97%e3%81%9f%e3%81%a1%e3%81%ae%e3%81%97%e3%81%82%e3%82%8f%e3%81%9b%e5%86%8d%e7%99%ba%e8%a6%8b%e3%82%b7%e3%83%b3%e3%83%9d%e3%82%b8%e3%82%a6%e3%83%a0%ef%bd%9e%e4%bd%8f%e6%b0%91/
LOCATION:伊仙町伊仙2575-2
END:VEVENT
END:VCALENDAR