BEGIN:VCALENDAR
VERSION:2.0
PRODID:-//一般社団法人徳之島観光連盟 - ECPv4.6.21//NONSGML v1.0//EN
CALSCALE:GREGORIAN
METHOD:PUBLISH
X-WR-CALNAME:一般社団法人徳之島観光連盟
X-ORIGINAL-URL:http://www.tokunoshima-kanko.com
X-WR-CALDESC:Events for 一般社団法人徳之島観光連盟
BEGIN:VEVENT
DTSTART;TZID=Asia/Tokyo:20181216T140000
DTEND;TZID=Asia/Tokyo:20181216T170000
DTSTAMP:20260424T180312
CREATED:20181122T234827Z
LAST-MODIFIED:20181122T234827Z
UID:9432-1544968800-1544979600@www.tokunoshima-kanko.com
SUMMARY:わきゃしまのいきむんきゃ　シンポジュウム
DESCRIPTION:
URL:http://www.tokunoshima-kanko.com/event/%e3%82%8f%e3%81%8d%e3%82%83%e3%81%97%e3%81%be%e3%81%ae%e3%81%84%e3%81%8d%e3%82%80%e3%82%93%e3%81%8d%e3%82%83%e3%80%80%e3%82%b7%e3%83%b3%e3%83%9d%e3%82%b8%e3%83%a5%e3%82%a6%e3%83%a0/
LOCATION:徳之島町亀津\, 大島郡\, 鹿児島県\, 891-7101\, Japan
END:VEVENT
END:VCALENDAR