BEGIN:VCALENDAR
VERSION:2.0
PRODID:-//一般社団法人徳之島観光連盟 - ECPv4.6.21//NONSGML v1.0//EN
CALSCALE:GREGORIAN
METHOD:PUBLISH
X-WR-CALNAME:一般社団法人徳之島観光連盟
X-ORIGINAL-URL:http://www.tokunoshima-kanko.com
X-WR-CALDESC:Events for 一般社団法人徳之島観光連盟
BEGIN:VEVENT
DTSTART;TZID=Asia/Tokyo:20181127T180000
DTEND;TZID=Asia/Tokyo:20181127T180000
DTSTAMP:20260424T165204
CREATED:20181124T005053Z
LAST-MODIFIED:20181124T005053Z
UID:9457-1543341600-1543341600@www.tokunoshima-kanko.com
SUMMARY:まちゃらフェス
DESCRIPTION: \n
URL:http://www.tokunoshima-kanko.com/event/%e3%81%be%e3%81%a1%e3%82%83%e3%82%89%e3%83%95%e3%82%a7%e3%82%b9/
LOCATION:天城町松原
END:VEVENT
END:VCALENDAR