BEGIN:VCALENDAR
VERSION:2.0
PRODID:-//一般社団法人徳之島観光連盟 - ECPv4.6.21//NONSGML v1.0//EN
CALSCALE:GREGORIAN
METHOD:PUBLISH
X-WR-CALNAME:一般社団法人徳之島観光連盟
X-ORIGINAL-URL:http://www.tokunoshima-kanko.com
X-WR-CALDESC:Events for 一般社団法人徳之島観光連盟
BEGIN:VEVENT
DTSTART;TZID=Asia/Tokyo:20180811T130000
DTEND;TZID=Asia/Tokyo:20180811T143000
DTSTAMP:20260425T103212
CREATED:20180802T011432Z
LAST-MODIFIED:20180802T011432Z
UID:8337-1533992400-1533997800@www.tokunoshima-kanko.com
SUMMARY:ほーらい館10周年記念講演　ちょ～簡単！健康づくり
DESCRIPTION:
URL:http://www.tokunoshima-kanko.com/event/%e3%81%bb%e3%83%bc%e3%82%89%e3%81%84%e9%a4%a810%e5%91%a8%e5%b9%b4%e8%a8%98%e5%bf%b5%e8%ac%9b%e6%bc%94%e3%80%80%e3%81%a1%e3%82%87%ef%bd%9e%e7%b0%a1%e5%8d%98%ef%bc%81%e5%81%a5%e5%ba%b7%e3%81%a5%e3%81%8f/
LOCATION:伊仙町伊仙2575-2\, 大島郡\, 鹿児島県\, 891-8201\, Japan
END:VEVENT
END:VCALENDAR