BEGIN:VCALENDAR
VERSION:2.0
PRODID:-//一般社団法人徳之島観光連盟 - ECPv4.6.21//NONSGML v1.0//EN
CALSCALE:GREGORIAN
METHOD:PUBLISH
X-WR-CALNAME:一般社団法人徳之島観光連盟
X-ORIGINAL-URL:http://www.tokunoshima-kanko.com
X-WR-CALDESC:Events for 一般社団法人徳之島観光連盟
BEGIN:VEVENT
DTSTART;TZID=Asia/Tokyo:20180805T090000
DTEND;TZID=Asia/Tokyo:20180805T090000
DTSTAMP:20260425T120918
CREATED:20180601T014858Z
LAST-MODIFIED:20180709T004501Z
UID:7735-1533459600-1533459600@www.tokunoshima-kanko.com
SUMMARY:どんどん祭り　＜ビーチバレー大会＞
DESCRIPTION:
URL:http://www.tokunoshima-kanko.com/event/%e3%81%a9%e3%82%93%e3%81%a9%e3%82%93%e7%a5%ad%e3%82%8a%e3%80%80%ef%bc%9c%e3%83%93%e3%83%bc%e3%83%81%e3%83%90%e3%83%ac%e3%83%bc%e5%a4%a7%e4%bc%9a%ef%bc%9e/
LOCATION:徳之島町花徳\, 大島郡\, 鹿児島県\, 891-7425\, Japan
END:VEVENT
END:VCALENDAR