BEGIN:VCALENDAR
VERSION:2.0
PRODID:-//一般社団法人徳之島観光連盟 - ECPv4.6.21//NONSGML v1.0//EN
CALSCALE:GREGORIAN
METHOD:PUBLISH
X-WR-CALNAME:一般社団法人徳之島観光連盟
X-ORIGINAL-URL:http://www.tokunoshima-kanko.com
X-WR-CALDESC:Events for 一般社団法人徳之島観光連盟
BEGIN:VEVENT
DTSTART;TZID=Asia/Tokyo:20180729T090000
DTEND;TZID=Asia/Tokyo:20180729T090000
DTSTAMP:20260425T121507
CREATED:20180523T061952Z
LAST-MODIFIED:20180523T062032Z
UID:7666-1532854800-1532854800@www.tokunoshima-kanko.com
SUMMARY:どんどん祭り　＜サーフィン大会＞
DESCRIPTION:
URL:http://www.tokunoshima-kanko.com/event/%e3%81%a9%e3%82%93%e3%81%a9%e3%82%93%e7%a5%ad%e3%82%8a%e3%80%80%ef%bc%9c%e3%82%b5%e3%83%bc%e3%83%95%e3%82%a3%e3%83%b3%e5%a4%a7%e4%bc%9a%ef%bc%9e/
LOCATION:徳之島町花徳\, 大島郡\, 鹿児島県\, 891-7425\, Japan
END:VEVENT
END:VCALENDAR