BEGIN:VCALENDAR
VERSION:2.0
PRODID:-//一般社団法人徳之島観光連盟 - ECPv4.6.21//NONSGML v1.0//EN
CALSCALE:GREGORIAN
METHOD:PUBLISH
X-WR-CALNAME:一般社団法人徳之島観光連盟
X-ORIGINAL-URL:http://www.tokunoshima-kanko.com
X-WR-CALDESC:Events for 一般社団法人徳之島観光連盟
BEGIN:VEVENT
DTSTART;TZID=Asia/Tokyo:20180817T090000
DTEND;TZID=Asia/Tokyo:20180817T090000
DTSTAMP:20260425T113722
CREATED:20180601T020904Z
LAST-MODIFIED:20180601T020904Z
UID:7756-1534496400-1534496400@www.tokunoshima-kanko.com
SUMMARY:どんどん祭り　＜ゲートボール大会＞
DESCRIPTION:
URL:http://www.tokunoshima-kanko.com/event/%e3%81%a9%e3%82%93%e3%81%a9%e3%82%93%e7%a5%ad%e3%82%8a%e3%80%80%ef%bc%9c%e3%82%b2%e3%83%bc%e3%83%88%e3%83%9c%e3%83%bc%e3%83%ab%e5%a4%a7%e4%bc%9a%ef%bc%9e/
LOCATION:徳之島町母間\, 大島郡\, 鹿児島県\, 891-7426\, Japan
END:VEVENT
END:VCALENDAR