BEGIN:VCALENDAR
VERSION:2.0
PRODID:-//一般社団法人徳之島観光連盟 - ECPv4.6.21//NONSGML v1.0//EN
CALSCALE:GREGORIAN
METHOD:PUBLISH
X-WR-CALNAME:一般社団法人徳之島観光連盟
X-ORIGINAL-URL:http://www.tokunoshima-kanko.com
X-WR-CALDESC:Events for 一般社団法人徳之島観光連盟
BEGIN:VEVENT
DTSTART;TZID=Asia/Tokyo:20190818T130000
DTEND;TZID=Asia/Tokyo:20190818T170000
DTSTAMP:20260423T125842
CREATED:20190628T045241Z
LAST-MODIFIED:20190628T050140Z
UID:11256-1566133200-1566147600@www.tokunoshima-kanko.com
SUMMARY:ちびっ子相撲大会（天城祭り関連）
DESCRIPTION:参加資格：未就学児～小学校6年生の男女 \n中学生・高校生（個人戦のみ） \n
URL:http://www.tokunoshima-kanko.com/event/%e3%81%a1%e3%81%b3%e3%81%a3%e5%ad%90%e7%9b%b8%e6%92%b2%e5%a4%a7%e4%bc%9a%ef%bc%88%e5%a4%a9%e5%9f%8e%e7%a5%ad%e3%82%8a%e9%96%a2%e9%80%a3%ef%bc%89/
END:VEVENT
END:VCALENDAR