BEGIN:VCALENDAR
VERSION:2.0
PRODID:-//一般社団法人徳之島観光連盟 - ECPv4.6.21//NONSGML v1.0//EN
CALSCALE:GREGORIAN
METHOD:PUBLISH
X-WR-CALNAME:一般社団法人徳之島観光連盟
X-ORIGINAL-URL:http://www.tokunoshima-kanko.com
X-WR-CALDESC:Events for 一般社団法人徳之島観光連盟
BEGIN:VEVENT
DTSTART;TZID=Asia/Tokyo:20181216T130000
DTEND;TZID=Asia/Tokyo:20181216T160000
DTSTAMP:20260424T163825
CREATED:20181120T053753Z
LAST-MODIFIED:20181120T053753Z
UID:9380-1544965200-1544976000@www.tokunoshima-kanko.com
SUMMARY:きて、みて、まなぶ徳之島のカムィヤキ
DESCRIPTION:
URL:http://www.tokunoshima-kanko.com/event/%e3%81%8d%e3%81%a6%e3%80%81%e3%81%bf%e3%81%a6%e3%80%81%e3%81%be%e3%81%aa%e3%81%b6%e5%be%b3%e4%b9%8b%e5%b3%b6%e3%81%ae%e3%82%ab%e3%83%a0%e3%82%a3%e3%83%a4%e3%82%ad/
LOCATION:伊仙町伊仙2575-2\, 大島郡\, 鹿児島県\, 891-8201\, Japan
END:VEVENT
END:VCALENDAR