BEGIN:VCALENDAR
VERSION:2.0
PRODID:-//一般社団法人徳之島観光連盟 - ECPv4.6.21//NONSGML v1.0//EN
CALSCALE:GREGORIAN
METHOD:PUBLISH
X-WR-CALNAME:一般社団法人徳之島観光連盟
X-ORIGINAL-URL:http://www.tokunoshima-kanko.com
X-WR-CALDESC:Events for 一般社団法人徳之島観光連盟
BEGIN:VEVENT
DTSTART;TZID=Asia/Tokyo:20180603T100000
DTEND;TZID=Asia/Tokyo:20180603T100000
DTSTAMP:20260425T144325
CREATED:20180511T060035Z
LAST-MODIFIED:20180511T060035Z
UID:7409-1528020000-1528020000@www.tokunoshima-kanko.com
SUMMARY:お楽しみ抽選会付き 全島花牛闘牛大会
DESCRIPTION: \n  \n \n入場料　高校生以上：3000円、中学生：１０００円、小学生以下無料 \n
URL:http://www.tokunoshima-kanko.com/event/%e3%81%8a%e6%a5%bd%e3%81%97%e3%81%bf%e6%8a%bd%e9%81%b8%e4%bc%9a%e4%bb%98%e3%81%8d-%e5%85%a8%e5%b3%b6%e8%8a%b1%e7%89%9b%e9%97%98%e7%89%9b%e5%a4%a7%e4%bc%9a/
LOCATION:伊仙町目手久626\, 大島郡\, 鹿児島県\, 891-8113\, Japan
END:VEVENT
END:VCALENDAR