BEGIN:VCALENDAR
VERSION:2.0
PRODID:-//一般社団法人徳之島観光連盟 - ECPv4.6.21//NONSGML v1.0//EN
CALSCALE:GREGORIAN
METHOD:PUBLISH
X-WR-CALNAME:一般社団法人徳之島観光連盟
X-ORIGINAL-URL:http://www.tokunoshima-kanko.com
X-WR-CALDESC:Events for 一般社団法人徳之島観光連盟
BEGIN:VEVENT
DTSTART;TZID=Asia/Tokyo:20200112T100000
DTEND;TZID=Asia/Tokyo:20200112T140000
DTSTAMP:20260423T185724
CREATED:20200107T072114Z
LAST-MODIFIED:20200107T072114Z
UID:12904-1578823200-1578837600@www.tokunoshima-kanko.com
SUMMARY:うししマルシェ
DESCRIPTION:  \n
URL:http://www.tokunoshima-kanko.com/event/%e3%81%86%e3%81%97%e3%81%97%e3%83%9e%e3%83%ab%e3%82%b7%e3%82%a7/
LOCATION:伊仙町伊仙3071-1
END:VEVENT
END:VCALENDAR