BEGIN:VCALENDAR
VERSION:2.0
PRODID:-//一般社団法人徳之島観光連盟 - ECPv4.6.21//NONSGML v1.0//EN
CALSCALE:GREGORIAN
METHOD:PUBLISH
X-WR-CALNAME:一般社団法人徳之島観光連盟
X-ORIGINAL-URL:http://www.tokunoshima-kanko.com
X-WR-CALDESC:Events for 一般社団法人徳之島観光連盟
BEGIN:VEVENT
DTSTART;TZID=Asia/Tokyo:20200308T140000
DTEND;TZID=Asia/Tokyo:20200308T183000
DTSTAMP:20260423T200642
CREATED:20200213T011250Z
LAST-MODIFIED:20200304T061555Z
UID:13223-1583676000-1583692200@www.tokunoshima-kanko.com
SUMMARY:〜SDGs(持続可能な開発）を考える〜『連続映画上映会開催』
DESCRIPTION: \n
URL:http://www.tokunoshima-kanko.com/event/%e3%80%9csdgs%e6%8c%81%e7%b6%9a%e5%8f%af%e8%83%bd%e3%81%aa%e9%96%8b%e7%99%ba%ef%bc%89%e3%82%92%e8%80%83%e3%81%88%e3%82%8b%e3%80%9c%e3%80%8e%e9%80%a3%e7%b6%9a%e6%98%a0%e7%94%bb%e4%b8%8a%e6%98%a0/
LOCATION:天城町天城4391-1
END:VEVENT
END:VCALENDAR