BEGIN:VCALENDAR
VERSION:2.0
PRODID:-//一般社団法人徳之島観光連盟 - ECPv4.6.21//NONSGML v1.0//EN
CALSCALE:GREGORIAN
METHOD:PUBLISH
X-WR-CALNAME:一般社団法人徳之島観光連盟
X-ORIGINAL-URL:http://www.tokunoshima-kanko.com
X-WR-CALDESC:Events for 一般社団法人徳之島観光連盟
BEGIN:VEVENT
DTSTART;TZID=Asia/Tokyo:20200224T130000
DTEND;TZID=Asia/Tokyo:20200224T150000
DTSTAMP:20260423T185035
CREATED:20200213T010853Z
LAST-MODIFIED:20200213T010853Z
UID:13218-1582549200-1582556400@www.tokunoshima-kanko.com
SUMMARY:【森と海の藝術楽校in三京藝術楽校in三京】第12回目授業 クリエイティブリユース（アップサイクル）を楽しもう♬
DESCRIPTION: \n
URL:http://www.tokunoshima-kanko.com/event/%e3%80%90%e6%a3%ae%e3%81%a8%e6%b5%b7%e3%81%ae%e8%97%9d%e8%a1%93%e6%a5%bd%e6%a0%a1in%e4%b8%89%e4%ba%ac%e8%97%9d%e8%a1%93%e6%a5%bd%e6%a0%a1in%e4%b8%89%e4%ba%ac%e3%80%91%e7%ac%ac12%e5%9b%9e%e7%9b%ae/
END:VEVENT
END:VCALENDAR