BEGIN:VCALENDAR
VERSION:2.0
PRODID:-//一般社団法人徳之島観光連盟 - ECPv4.6.21//NONSGML v1.0//EN
CALSCALE:GREGORIAN
METHOD:PUBLISH
X-WR-CALNAME:一般社団法人徳之島観光連盟
X-ORIGINAL-URL:http://www.tokunoshima-kanko.com
X-WR-CALDESC:Events for 一般社団法人徳之島観光連盟
BEGIN:VEVENT
DTSTART;TZID=Asia/Tokyo:20190721T090000
DTEND;TZID=Asia/Tokyo:20190721T113000
DTSTAMP:20260423T143620
CREATED:20190628T082518Z
LAST-MODIFIED:20190724T080446Z
UID:11276-1563699600-1563708600@www.tokunoshima-kanko.com
SUMMARY:「自然観察会～三京林道～」
DESCRIPTION: \n  \n募集期限・・・令和元年７月１７日（水）17：00まで\n定員・・・・・先着３０名 \n
URL:http://www.tokunoshima-kanko.com/event/%e3%80%8c%e8%87%aa%e7%84%b6%e8%a6%b3%e5%af%9f%e4%bc%9a%ef%bd%9e%e4%b8%89%e4%ba%ac%e6%9e%97%e9%81%93%ef%bd%9e%e3%80%8d/
LOCATION:天城町西阿木名1352
END:VEVENT
END:VCALENDAR