BEGIN:VCALENDAR
VERSION:2.0
PRODID:-//一般社団法人徳之島観光連盟 - ECPv4.6.21//NONSGML v1.0//EN
CALSCALE:GREGORIAN
METHOD:PUBLISH
X-WR-CALNAME:一般社団法人徳之島観光連盟
X-ORIGINAL-URL:http://www.tokunoshima-kanko.com
X-WR-CALDESC:Events for 一般社団法人徳之島観光連盟
BEGIN:VEVENT
DTSTART;TZID=Asia/Tokyo:20190609T100000
DTEND;TZID=Asia/Tokyo:20190609T100000
DTSTAMP:20260423T215247
CREATED:20190607T085723Z
LAST-MODIFIED:20190607T085853Z
UID:11158-1560074400-1560074400@www.tokunoshima-kanko.com
SUMMARY:「第１回ちびっこBGフェスタ」
DESCRIPTION:ちびっこでも楽しめるプチ菜園や巨大迷路、親子で楽しめるイベントを用意しています♪ \nたくさんのご来場をお待ちしております!(^^)! \n※　雨天：艇庫内にて開催。 \n
URL:http://www.tokunoshima-kanko.com/event/%e3%80%8c%e7%ac%ac%ef%bc%91%e5%9b%9e%e3%81%a1%e3%81%b3%e3%81%a3%e3%81%93bg%e3%83%95%e3%82%a7%e3%82%b9%e3%82%bf%e3%80%8d/
END:VEVENT
END:VCALENDAR