BEGIN:VCALENDAR
VERSION:2.0
PRODID:-//一般社団法人徳之島観光連盟 - ECPv4.6.21//NONSGML v1.0//EN
CALSCALE:GREGORIAN
METHOD:PUBLISH
X-WR-CALNAME:一般社団法人徳之島観光連盟
X-ORIGINAL-URL:http://www.tokunoshima-kanko.com
X-WR-CALDESC:Events for 一般社団法人徳之島観光連盟
BEGIN:VEVENT
DTSTART;TZID=Asia/Tokyo:20190802T133000
DTEND;TZID=Asia/Tokyo:20190802T163000
DTSTAMP:20260423T143532
CREATED:20190724T080022Z
LAST-MODIFIED:20190724T080022Z
UID:11401-1564752600-1564763400@www.tokunoshima-kanko.com
SUMMARY:「むらを育てる！」～これからの農業と向き合うシンポジウム～
DESCRIPTION: \n参加無料 \n12：30より受付 \n
URL:http://www.tokunoshima-kanko.com/event/%e3%80%8c%e3%82%80%e3%82%89%e3%82%92%e8%82%b2%e3%81%a6%e3%82%8b%ef%bc%81%e3%80%8d%ef%bd%9e%e3%81%93%e3%82%8c%e3%81%8b%e3%82%89%e3%81%ae%e8%be%b2%e6%a5%ad%e3%81%a8%e5%90%91%e3%81%8d%e5%90%88%e3%81%86/
LOCATION:伊仙町伊仙２５７５-２
END:VEVENT
END:VCALENDAR