BEGIN:VCALENDAR
VERSION:2.0
PRODID:-//一般社団法人徳之島観光連盟 - ECPv4.6.21//NONSGML v1.0//EN
CALSCALE:GREGORIAN
METHOD:PUBLISH
X-WR-CALNAME:一般社団法人徳之島観光連盟
X-ORIGINAL-URL:http://www.tokunoshima-kanko.com
X-WR-CALDESC:Events for 一般社団法人徳之島観光連盟
BEGIN:VEVENT
DTSTART;TZID=Asia/Tokyo:20180811T150000
DTEND;TZID=Asia/Tokyo:20180811T170000
DTSTAMP:20260425T104125
CREATED:20180802T011609Z
LAST-MODIFIED:20180802T011609Z
UID:8342-1533999600-1534006800@www.tokunoshima-kanko.com
SUMMARY:「ほーらい館」１０周年記念式典・祝賀会
DESCRIPTION:
URL:http://www.tokunoshima-kanko.com/event/%e3%80%8c%e3%81%bb%e3%83%bc%e3%82%89%e3%81%84%e9%a4%a8%e3%80%8d%ef%bc%91%ef%bc%90%e5%91%a8%e5%b9%b4%e8%a8%98%e5%bf%b5%e5%bc%8f%e5%85%b8%e3%83%bb%e7%a5%9d%e8%b3%80%e4%bc%9a/
LOCATION:伊仙町伊仙2575-2\, 大島郡\, 鹿児島県\, 891-8201\, Japan
END:VEVENT
END:VCALENDAR