BEGIN:VCALENDAR
VERSION:2.0
PRODID:-//一般社団法人徳之島観光連盟 - ECPv4.6.21//NONSGML v1.0//EN
CALSCALE:GREGORIAN
METHOD:PUBLISH
X-WR-CALNAME:一般社団法人徳之島観光連盟
X-ORIGINAL-URL:http://www.tokunoshima-kanko.com
X-WR-CALDESC:Events for 一般社団法人徳之島観光連盟
BEGIN:VEVENT
DTSTART;TZID=Asia/Tokyo:20200222T133000
DTEND;TZID=Asia/Tokyo:20200222T150000
DTSTAMP:20260423T173756
CREATED:20200207T023405Z
LAST-MODIFIED:20200207T023405Z
UID:13154-1582378200-1582383600@www.tokunoshima-kanko.com
SUMMARY:「いせん寺子屋」第１０回『①ホンモノ科学とニセモノ科学』」，『②雷？オーロラ？〝プラズマ”って何だろう？』
DESCRIPTION: \n
URL:http://www.tokunoshima-kanko.com/event/%e3%80%8c%e3%81%84%e3%81%9b%e3%82%93%e5%af%ba%e5%ad%90%e5%b1%8b%e3%80%8d%e7%ac%ac%ef%bc%91%ef%bc%90%e5%9b%9e%e3%80%8e%e2%91%a0%e3%83%9b%e3%83%b3%e3%83%a2%e3%83%8e%e7%a7%91%e5%ad%a6%e3%81%a8%e3%83%8b/
END:VEVENT
END:VCALENDAR